BEGIN:VCALENDAR
VERSION:2.0
PRODID:-//Sabre//Sabre VObject 4.5.8//EN
CALSCALE:GREGORIAN
BEGIN:VEVENT
UID:sabre-vobject-1b79b719-f312-493f-baad-54888cd8f1be
DTSTAMP:20260420T161456Z
SUMMARY:Partner Workout for National Best Friend Day
DESCRIPTION:Get a full-body challenge with fun team-focused exercises!\n
X-ALT-DESC:FMTTYPE=text/html:<!DOCTYPE HTML PUBLIC "-//W3C//DTD HTML 3.2//E
 N"><HTML><p>Get a full-body challenge with fun team-focused exercises!</p>
 \n</HTML>
CREATED;TZID=America/Chicago:20260417T102819
URL;VALUE=URI:https://mccoy.armymwr.com/calendar/event
DTSTART;TZID=America/Chicago:20260618T160000
DTEND;TZID=America/Chicago:20260618T163000
SEQUENCE:0
END:VEVENT
END:VCALENDAR
