BEGIN:VCALENDAR
VERSION:2.0
PRODID:-//Sabre//Sabre VObject 4.5.8//EN
CALSCALE:GREGORIAN
BEGIN:VEVENT
UID:sabre-vobject-00fae01e-c345-4e2a-86bd-471c33dcbc12
DTSTAMP:20260422T234923Z
SUMMARY:ACS Volunteer Appreciation Event
DESCRIPTION:
X-ALT-DESC:FMTTYPE=text/html:<!DOCTYPE HTML PUBLIC "-//W3C//DTD HTML 3.2//E
 N"><HTML></HTML>
CREATED;TZID=America/Chicago:20181005T084551
URL;VALUE=URI:https://mccoy.armymwr.com/calendar/event
DTSTART;TZID=America/Chicago:20181102T113000
DTEND;TZID=America/Chicago:20181102T153000
SEQUENCE:0
END:VEVENT
END:VCALENDAR
