BEGIN:VCALENDAR
VERSION:2.0
PRODID:-//Sabre//Sabre VObject 4.5.8//EN
CALSCALE:GREGORIAN
BEGIN:VEVENT
UID:sabre-vobject-dfa8b779-f3ff-4289-9e0e-42f8793005f1
DTSTAMP:20260420T161712Z
SUMMARY:Make a Wooden Pen
DESCRIPTION:
X-ALT-DESC:FMTTYPE=text/html:<!DOCTYPE HTML PUBLIC "-//W3C//DTD HTML 3.2//E
 N"><HTML></HTML>
CREATED;TZID=America/Chicago:20181105T140844
URL;VALUE=URI:https://mccoy.armymwr.com/calendar/event
DTSTART;TZID=America/Chicago:20181109T130000
DTEND;TZID=America/Chicago:20181109T160000
SEQUENCE:0
END:VEVENT
BEGIN:VEVENT
UID:sabre-vobject-a6efd0a1-3b2c-47a1-8ab9-86c0e51201b4
DTSTAMP:20260420T161712Z
SUMMARY:Make a Wooden Pen
DESCRIPTION:
X-ALT-DESC:FMTTYPE=text/html:<!DOCTYPE HTML PUBLIC "-//W3C//DTD HTML 3.2//E
 N"><HTML></HTML>
CREATED;TZID=America/Chicago:20181105T140844
URL;VALUE=URI:https://mccoy.armymwr.com/calendar/event
DTSTART;TZID=America/Chicago:20181130T130000
DTEND;TZID=America/Chicago:20181130T160000
SEQUENCE:1
END:VEVENT
BEGIN:VEVENT
UID:sabre-vobject-36b157cd-5c4a-46b1-98c4-8003869dd895
DTSTAMP:20260420T161712Z
SUMMARY:Make a Wooden Pen
DESCRIPTION:
X-ALT-DESC:FMTTYPE=text/html:<!DOCTYPE HTML PUBLIC "-//W3C//DTD HTML 3.2//E
 N"><HTML></HTML>
CREATED;TZID=America/Chicago:20181105T140844
URL;VALUE=URI:https://mccoy.armymwr.com/calendar/event
DTSTART;TZID=America/Chicago:20181207T130000
DTEND;TZID=America/Chicago:20181207T160000
SEQUENCE:2
END:VEVENT
BEGIN:VEVENT
UID:sabre-vobject-f18035dd-05f6-4242-8ac9-a5bf62202ed0
DTSTAMP:20260420T161712Z
SUMMARY:Make a Wooden Pen
DESCRIPTION:
X-ALT-DESC:FMTTYPE=text/html:<!DOCTYPE HTML PUBLIC "-//W3C//DTD HTML 3.2//E
 N"><HTML></HTML>
CREATED;TZID=America/Chicago:20181105T140844
URL;VALUE=URI:https://mccoy.armymwr.com/calendar/event
DTSTART;TZID=America/Chicago:20181221T130000
DTEND;TZID=America/Chicago:20181221T160000
SEQUENCE:3
END:VEVENT
BEGIN:VEVENT
UID:sabre-vobject-9ec516c2-cb3f-4b63-be99-20d571bc3514
DTSTAMP:20260420T161712Z
SUMMARY:Make a Wooden Pen
DESCRIPTION:
X-ALT-DESC:FMTTYPE=text/html:<!DOCTYPE HTML PUBLIC "-//W3C//DTD HTML 3.2//E
 N"><HTML></HTML>
CREATED;TZID=America/Chicago:20181105T140844
URL;VALUE=URI:https://mccoy.armymwr.com/calendar/event
DTSTART;TZID=America/Chicago:20181219T160000
DTEND;TZID=America/Chicago:20181219T190000
SEQUENCE:4
END:VEVENT
BEGIN:VEVENT
UID:sabre-vobject-f0c46569-7151-4983-9097-6d3fe9fc7f79
DTSTAMP:20260420T161712Z
SUMMARY:Make a Wooden Pen
DESCRIPTION:
X-ALT-DESC:FMTTYPE=text/html:<!DOCTYPE HTML PUBLIC "-//W3C//DTD HTML 3.2//E
 N"><HTML></HTML>
CREATED;TZID=America/Chicago:20181105T140844
URL;VALUE=URI:https://mccoy.armymwr.com/calendar/event
DTSTART;TZID=America/Chicago:20181220T160000
DTEND;TZID=America/Chicago:20181220T190000
SEQUENCE:5
END:VEVENT
END:VCALENDAR
