BEGIN:VCALENDAR
VERSION:2.0
PRODID:-//Sabre//Sabre VObject 4.5.8//EN
CALSCALE:GREGORIAN
BEGIN:VEVENT
UID:sabre-vobject-ed44075a-cced-4e54-94b0-562af106e8f1
DTSTAMP:20260421T150254Z
SUMMARY:Endless 50's Swim Challenge
DESCRIPTION:
X-ALT-DESC:FMTTYPE=text/html:<!DOCTYPE HTML PUBLIC "-//W3C//DTD HTML 3.2//E
 N"><HTML></HTML>
CREATED;TZID=America/Chicago:20181105T131101
URL;VALUE=URI:https://mccoy.armymwr.com/calendar/event
DTSTART;TZID=America/Chicago:20181204T000000
DTEND;TZID=America/Chicago:20181204T235959
SEQUENCE:0
END:VEVENT
END:VCALENDAR
