BEGIN:VCALENDAR
VERSION:2.0
PRODID:-//Sabre//Sabre VObject 4.5.8//EN
CALSCALE:GREGORIAN
BEGIN:VEVENT
UID:sabre-vobject-8e0c2102-79d4-4de3-9efe-bd334d1311a8
DTSTAMP:20260421T234442Z
SUMMARY:Trees for Troops
DESCRIPTION:
X-ALT-DESC:FMTTYPE=text/html:<!DOCTYPE HTML PUBLIC "-//W3C//DTD HTML 3.2//E
 N"><HTML></HTML>
CREATED;TZID=America/Chicago:20181128T103717
URL;VALUE=URI:https://mccoy.armymwr.com/calendar/event
DTSTART;TZID=America/Chicago:20181206T100000
DTEND;TZID=America/Chicago:20181206T110000
SEQUENCE:0
END:VEVENT
END:VCALENDAR
