BEGIN:VCALENDAR
VERSION:2.0
PRODID:-//Sabre//Sabre VObject 4.5.8//EN
CALSCALE:GREGORIAN
BEGIN:VEVENT
UID:sabre-vobject-fc35e325-e856-483b-96a8-aef64d7e0b6c
DTSTAMP:20260420T154805Z
SUMMARY:Military Spouse Employment Briefing
DESCRIPTION:
X-ALT-DESC:FMTTYPE=text/html:<!DOCTYPE HTML PUBLIC "-//W3C//DTD HTML 3.2//E
 N"><HTML></HTML>
CREATED;TZID=America/Chicago:20190125T095650
URL;VALUE=URI:https://mccoy.armymwr.com/calendar/event
DTSTART;TZID=America/Chicago:20190227T090000
DTEND;TZID=America/Chicago:20190227T103000
SEQUENCE:0
END:VEVENT
END:VCALENDAR
