BEGIN:VCALENDAR
VERSION:2.0
PRODID:-//Sabre//Sabre VObject 4.5.8//EN
CALSCALE:GREGORIAN
BEGIN:VEVENT
UID:sabre-vobject-d3807157-42ad-4a8c-ac76-5d81a92330e9
DTSTAMP:20260423T231602Z
SUMMARY:Spin Your Own Wooden Pen
DESCRIPTION:
X-ALT-DESC:FMTTYPE=text/html:<!DOCTYPE HTML PUBLIC "-//W3C//DTD HTML 3.2//E
 N"><HTML></HTML>
CREATED;TZID=America/Chicago:20211101T143503
URL;VALUE=URI:https://mccoy.armymwr.com/calendar/event
DTSTART;TZID=America/Chicago:20211005T160000
DTEND;TZID=America/Chicago:20211005T183000
SEQUENCE:0
END:VEVENT
BEGIN:VEVENT
UID:sabre-vobject-3ab17bd7-5e69-44f1-908f-b82aa3fb77b9
DTSTAMP:20260423T231602Z
SUMMARY:Spin Your Own Wooden Pen
DESCRIPTION:
X-ALT-DESC:FMTTYPE=text/html:<!DOCTYPE HTML PUBLIC "-//W3C//DTD HTML 3.2//E
 N"><HTML></HTML>
CREATED;TZID=America/Chicago:20211101T143503
URL;VALUE=URI:https://mccoy.armymwr.com/calendar/event
DTSTART;TZID=America/Chicago:20211007T160000
DTEND;TZID=America/Chicago:20211007T183000
SEQUENCE:1
END:VEVENT
BEGIN:VEVENT
UID:sabre-vobject-8e402dea-33d0-4698-82c1-eb20256a5019
DTSTAMP:20260423T231602Z
SUMMARY:Spin Your Own Wooden Pen
DESCRIPTION:
X-ALT-DESC:FMTTYPE=text/html:<!DOCTYPE HTML PUBLIC "-//W3C//DTD HTML 3.2//E
 N"><HTML></HTML>
CREATED;TZID=America/Chicago:20211101T143503
URL;VALUE=URI:https://mccoy.armymwr.com/calendar/event
DTSTART;TZID=America/Chicago:20211019T160000
DTEND;TZID=America/Chicago:20211019T183000
SEQUENCE:2
END:VEVENT
BEGIN:VEVENT
UID:sabre-vobject-6965df38-2010-42cf-a537-abd0e2eb3117
DTSTAMP:20260423T231602Z
SUMMARY:Spin Your Own Wooden Pen
DESCRIPTION:
X-ALT-DESC:FMTTYPE=text/html:<!DOCTYPE HTML PUBLIC "-//W3C//DTD HTML 3.2//E
 N"><HTML></HTML>
CREATED;TZID=America/Chicago:20211101T143503
URL;VALUE=URI:https://mccoy.armymwr.com/calendar/event
DTSTART;TZID=America/Chicago:20211021T160000
DTEND;TZID=America/Chicago:20211021T183000
SEQUENCE:3
END:VEVENT
BEGIN:VEVENT
UID:sabre-vobject-3121baed-ea5f-4d74-82c1-c890efa862d6
DTSTAMP:20260423T231602Z
SUMMARY:Spin Your Own Wooden Pen
DESCRIPTION:
X-ALT-DESC:FMTTYPE=text/html:<!DOCTYPE HTML PUBLIC "-//W3C//DTD HTML 3.2//E
 N"><HTML></HTML>
CREATED;TZID=America/Chicago:20211101T143503
URL;VALUE=URI:https://mccoy.armymwr.com/calendar/event
DTSTART;TZID=America/Chicago:20211026T160000
DTEND;TZID=America/Chicago:20211026T183000
SEQUENCE:4
END:VEVENT
BEGIN:VEVENT
UID:sabre-vobject-bf64f23a-6c6b-452e-b2cb-9ce71c9da246
DTSTAMP:20260423T231602Z
SUMMARY:Spin Your Own Wooden Pen
DESCRIPTION:
X-ALT-DESC:FMTTYPE=text/html:<!DOCTYPE HTML PUBLIC "-//W3C//DTD HTML 3.2//E
 N"><HTML></HTML>
CREATED;TZID=America/Chicago:20211101T143503
URL;VALUE=URI:https://mccoy.armymwr.com/calendar/event
DTSTART;TZID=America/Chicago:20211116T160000
DTEND;TZID=America/Chicago:20211116T183000
SEQUENCE:5
END:VEVENT
BEGIN:VEVENT
UID:sabre-vobject-12bf71d7-cbb4-4315-9a7b-42f451d0641b
DTSTAMP:20260423T231602Z
SUMMARY:Spin Your Own Wooden Pen
DESCRIPTION:
X-ALT-DESC:FMTTYPE=text/html:<!DOCTYPE HTML PUBLIC "-//W3C//DTD HTML 3.2//E
 N"><HTML></HTML>
CREATED;TZID=America/Chicago:20211101T143503
URL;VALUE=URI:https://mccoy.armymwr.com/calendar/event
DTSTART;TZID=America/Chicago:20211118T160000
DTEND;TZID=America/Chicago:20211118T183000
SEQUENCE:6
END:VEVENT
BEGIN:VEVENT
UID:sabre-vobject-d6ade093-62c8-4cf6-9b28-5eae48b59bfb
DTSTAMP:20260423T231602Z
SUMMARY:Spin Your Own Wooden Pen
DESCRIPTION:
X-ALT-DESC:FMTTYPE=text/html:<!DOCTYPE HTML PUBLIC "-//W3C//DTD HTML 3.2//E
 N"><HTML></HTML>
CREATED;TZID=America/Chicago:20211101T143503
URL;VALUE=URI:https://mccoy.armymwr.com/calendar/event
DTSTART;TZID=America/Chicago:20211130T160000
DTEND;TZID=America/Chicago:20211130T183000
SEQUENCE:7
END:VEVENT
END:VCALENDAR
