BEGIN:VCALENDAR
VERSION:2.0
PRODID:-//Sabre//Sabre VObject 4.5.8//EN
CALSCALE:GREGORIAN
BEGIN:VEVENT
UID:sabre-vobject-65cd7e30-e733-43ce-814d-729ae1e24b7e
DTSTAMP:20260420T144301Z
SUMMARY:Bigfoot Zipline Trip
DESCRIPTION:Leisure Travel offers this exhilarating excursion for thrill se
 ekers.\n
X-ALT-DESC:FMTTYPE=text/html:<!DOCTYPE HTML PUBLIC "-//W3C//DTD HTML 3.2//E
 N"><HTML><p>Leisure Travel offers this exhilarating excursion for thrill s
 eekers.</p>\n</HTML>
CREATED;TZID=America/Chicago:20240710T095347
URL;VALUE=URI:https://mccoy.armymwr.com/calendar/event
DTSTART;TZID=America/Chicago:20240810T080000
DTEND;TZID=America/Chicago:20240810T160000
SEQUENCE:0
END:VEVENT
END:VCALENDAR
