BEGIN:VCALENDAR
VERSION:2.0
PRODID:-//Sabre//Sabre VObject 4.5.8//EN
CALSCALE:GREGORIAN
BEGIN:VEVENT
UID:sabre-vobject-1f7d864a-a4f6-45af-99f5-df54513ca071
DTSTAMP:20260423T191839Z
SUMMARY:Sponsorship Training
DESCRIPTION:For Military Personnel\n
X-ALT-DESC:FMTTYPE=text/html:<!DOCTYPE HTML PUBLIC "-//W3C//DTD HTML 3.2//E
 N"><HTML><p>For Military Personnel</p>\n</HTML>
CREATED;TZID=America/Chicago:20250826T133219
URL;VALUE=URI:https://mccoy.armymwr.com/calendar/event
DTSTART;TZID=America/Chicago:20250307T100000
DTEND;TZID=America/Chicago:20250307T110000
SEQUENCE:0
END:VEVENT
BEGIN:VEVENT
UID:sabre-vobject-7162610d-8edd-427a-9c5f-722b3caa2ae4
DTSTAMP:20260423T191839Z
SUMMARY:Sponsorship Training
DESCRIPTION:For Military Personnel\n
X-ALT-DESC:FMTTYPE=text/html:<!DOCTYPE HTML PUBLIC "-//W3C//DTD HTML 3.2//E
 N"><HTML><p>For Military Personnel</p>\n</HTML>
CREATED;TZID=America/Chicago:20250826T133219
URL;VALUE=URI:https://mccoy.armymwr.com/calendar/event
DTSTART;TZID=America/Chicago:20250606T100000
DTEND;TZID=America/Chicago:20250606T110000
SEQUENCE:1
END:VEVENT
BEGIN:VEVENT
UID:sabre-vobject-7e646733-826a-4304-97e8-041afe82caeb
DTSTAMP:20260423T191839Z
SUMMARY:Sponsorship Training
DESCRIPTION:For Military Personnel\n
X-ALT-DESC:FMTTYPE=text/html:<!DOCTYPE HTML PUBLIC "-//W3C//DTD HTML 3.2//E
 N"><HTML><p>For Military Personnel</p>\n</HTML>
CREATED;TZID=America/Chicago:20250826T133219
URL;VALUE=URI:https://mccoy.armymwr.com/calendar/event
DTSTART;TZID=America/Chicago:20250905T100000
DTEND;TZID=America/Chicago:20250905T110000
SEQUENCE:2
END:VEVENT
BEGIN:VEVENT
UID:sabre-vobject-2acbc380-3479-4395-bfee-5af0ddf7be47
DTSTAMP:20260423T191839Z
SUMMARY:Sponsorship Training
DESCRIPTION:For Military Personnel\n
X-ALT-DESC:FMTTYPE=text/html:<!DOCTYPE HTML PUBLIC "-//W3C//DTD HTML 3.2//E
 N"><HTML><p>For Military Personnel</p>\n</HTML>
CREATED;TZID=America/Chicago:20250826T133219
URL;VALUE=URI:https://mccoy.armymwr.com/calendar/event
DTSTART;TZID=America/Chicago:20251205T100000
DTEND;TZID=America/Chicago:20251205T110000
SEQUENCE:3
END:VEVENT
BEGIN:VEVENT
UID:sabre-vobject-c42b6a9d-8450-4863-a6f5-8741692e5881
DTSTAMP:20260423T191839Z
SUMMARY:Sponsorship Training
DESCRIPTION:For Military Personnel\n
X-ALT-DESC:FMTTYPE=text/html:<!DOCTYPE HTML PUBLIC "-//W3C//DTD HTML 3.2//E
 N"><HTML><p>For Military Personnel</p>\n</HTML>
CREATED;TZID=America/Chicago:20250826T133219
URL;VALUE=URI:https://mccoy.armymwr.com/calendar/event
DTSTART;TZID=America/Chicago:20260306T100000
DTEND;TZID=America/Chicago:20260306T110000
SEQUENCE:4
END:VEVENT
BEGIN:VEVENT
UID:sabre-vobject-9526f7e6-1fc4-4749-b619-0917b78196cd
DTSTAMP:20260423T191839Z
SUMMARY:Sponsorship Training
DESCRIPTION:For Military Personnel\n
X-ALT-DESC:FMTTYPE=text/html:<!DOCTYPE HTML PUBLIC "-//W3C//DTD HTML 3.2//E
 N"><HTML><p>For Military Personnel</p>\n</HTML>
CREATED;TZID=America/Chicago:20250826T133219
URL;VALUE=URI:https://mccoy.armymwr.com/calendar/event
DTSTART;TZID=America/Chicago:20260605T100000
DTEND;TZID=America/Chicago:20260605T110000
SEQUENCE:5
END:VEVENT
BEGIN:VEVENT
UID:sabre-vobject-c1790600-3a83-4f15-b2be-5997d0f74c50
DTSTAMP:20260423T191839Z
SUMMARY:Sponsorship Training
DESCRIPTION:For Military Personnel\n
X-ALT-DESC:FMTTYPE=text/html:<!DOCTYPE HTML PUBLIC "-//W3C//DTD HTML 3.2//E
 N"><HTML><p>For Military Personnel</p>\n</HTML>
CREATED;TZID=America/Chicago:20250826T133219
URL;VALUE=URI:https://mccoy.armymwr.com/calendar/event
DTSTART;TZID=America/Chicago:20260904T100000
DTEND;TZID=America/Chicago:20260904T110000
SEQUENCE:6
END:VEVENT
BEGIN:VEVENT
UID:sabre-vobject-1964d38c-2495-4d49-b278-ac2bfbb1cc6c
DTSTAMP:20260423T191839Z
SUMMARY:Sponsorship Training
DESCRIPTION:For Military Personnel\n
X-ALT-DESC:FMTTYPE=text/html:<!DOCTYPE HTML PUBLIC "-//W3C//DTD HTML 3.2//E
 N"><HTML><p>For Military Personnel</p>\n</HTML>
CREATED;TZID=America/Chicago:20250826T133219
URL;VALUE=URI:https://mccoy.armymwr.com/calendar/event
DTSTART;TZID=America/Chicago:20261204T100000
DTEND;TZID=America/Chicago:20261204T110000
SEQUENCE:7
END:VEVENT
END:VCALENDAR
