BEGIN:VCALENDAR
VERSION:2.0
PRODID:-//Sabre//Sabre VObject 4.5.8//EN
CALSCALE:GREGORIAN
BEGIN:VEVENT
UID:sabre-vobject-b970be32-8617-40c3-8c22-538f1e2ea932
DTSTAMP:20260423T203606Z
SUMMARY:Sponsorship Training
DESCRIPTION:For Civilian Personnel\n
X-ALT-DESC:FMTTYPE=text/html:<!DOCTYPE HTML PUBLIC "-//W3C//DTD HTML 3.2//E
 N"><HTML><p>For Civilian Personnel</p>\n</HTML>
CREATED;TZID=America/Chicago:20250826T134814
URL;VALUE=URI:https://mccoy.armymwr.com/calendar/event
DTSTART;TZID=America/Chicago:20250307T130000
DTEND;TZID=America/Chicago:20250307T140000
SEQUENCE:0
END:VEVENT
BEGIN:VEVENT
UID:sabre-vobject-25bf9c0a-fb30-4ae0-9f35-489b617afc58
DTSTAMP:20260423T203606Z
SUMMARY:Sponsorship Training
DESCRIPTION:For Civilian Personnel\n
X-ALT-DESC:FMTTYPE=text/html:<!DOCTYPE HTML PUBLIC "-//W3C//DTD HTML 3.2//E
 N"><HTML><p>For Civilian Personnel</p>\n</HTML>
CREATED;TZID=America/Chicago:20250826T134814
URL;VALUE=URI:https://mccoy.armymwr.com/calendar/event
DTSTART;TZID=America/Chicago:20250606T130000
DTEND;TZID=America/Chicago:20250606T140000
SEQUENCE:1
END:VEVENT
BEGIN:VEVENT
UID:sabre-vobject-982c3363-cf6a-4a2e-bba0-a39f4f81476a
DTSTAMP:20260423T203606Z
SUMMARY:Sponsorship Training
DESCRIPTION:For Civilian Personnel\n
X-ALT-DESC:FMTTYPE=text/html:<!DOCTYPE HTML PUBLIC "-//W3C//DTD HTML 3.2//E
 N"><HTML><p>For Civilian Personnel</p>\n</HTML>
CREATED;TZID=America/Chicago:20250826T134814
URL;VALUE=URI:https://mccoy.armymwr.com/calendar/event
DTSTART;TZID=America/Chicago:20250905T130000
DTEND;TZID=America/Chicago:20250905T140000
SEQUENCE:2
END:VEVENT
BEGIN:VEVENT
UID:sabre-vobject-c70b34c1-c6ea-41c1-92aa-cf61abfdaad1
DTSTAMP:20260423T203606Z
SUMMARY:Sponsorship Training
DESCRIPTION:For Civilian Personnel\n
X-ALT-DESC:FMTTYPE=text/html:<!DOCTYPE HTML PUBLIC "-//W3C//DTD HTML 3.2//E
 N"><HTML><p>For Civilian Personnel</p>\n</HTML>
CREATED;TZID=America/Chicago:20250826T134814
URL;VALUE=URI:https://mccoy.armymwr.com/calendar/event
DTSTART;TZID=America/Chicago:20251205T130000
DTEND;TZID=America/Chicago:20251205T140000
SEQUENCE:3
END:VEVENT
BEGIN:VEVENT
UID:sabre-vobject-ed92feeb-536e-46f5-91e4-9ae5143c014c
DTSTAMP:20260423T203606Z
SUMMARY:Sponsorship Training
DESCRIPTION:For Civilian Personnel\n
X-ALT-DESC:FMTTYPE=text/html:<!DOCTYPE HTML PUBLIC "-//W3C//DTD HTML 3.2//E
 N"><HTML><p>For Civilian Personnel</p>\n</HTML>
CREATED;TZID=America/Chicago:20250826T134814
URL;VALUE=URI:https://mccoy.armymwr.com/calendar/event
DTSTART;TZID=America/Chicago:20260306T130000
DTEND;TZID=America/Chicago:20260306T140000
SEQUENCE:4
END:VEVENT
BEGIN:VEVENT
UID:sabre-vobject-85881df1-786a-4f28-9adf-33815de23406
DTSTAMP:20260423T203606Z
SUMMARY:Sponsorship Training
DESCRIPTION:For Civilian Personnel\n
X-ALT-DESC:FMTTYPE=text/html:<!DOCTYPE HTML PUBLIC "-//W3C//DTD HTML 3.2//E
 N"><HTML><p>For Civilian Personnel</p>\n</HTML>
CREATED;TZID=America/Chicago:20250826T134814
URL;VALUE=URI:https://mccoy.armymwr.com/calendar/event
DTSTART;TZID=America/Chicago:20260605T130000
DTEND;TZID=America/Chicago:20260605T140000
SEQUENCE:5
END:VEVENT
BEGIN:VEVENT
UID:sabre-vobject-43bc0322-b6ca-4ec4-958d-45cc2bd742bf
DTSTAMP:20260423T203606Z
SUMMARY:Sponsorship Training
DESCRIPTION:For Civilian Personnel\n
X-ALT-DESC:FMTTYPE=text/html:<!DOCTYPE HTML PUBLIC "-//W3C//DTD HTML 3.2//E
 N"><HTML><p>For Civilian Personnel</p>\n</HTML>
CREATED;TZID=America/Chicago:20250826T134814
URL;VALUE=URI:https://mccoy.armymwr.com/calendar/event
DTSTART;TZID=America/Chicago:20260904T130000
DTEND;TZID=America/Chicago:20260904T140000
SEQUENCE:6
END:VEVENT
BEGIN:VEVENT
UID:sabre-vobject-fb3e7ea2-8cdb-4272-a279-27a79ee55f1d
DTSTAMP:20260423T203606Z
SUMMARY:Sponsorship Training
DESCRIPTION:For Civilian Personnel\n
X-ALT-DESC:FMTTYPE=text/html:<!DOCTYPE HTML PUBLIC "-//W3C//DTD HTML 3.2//E
 N"><HTML><p>For Civilian Personnel</p>\n</HTML>
CREATED;TZID=America/Chicago:20250826T134814
URL;VALUE=URI:https://mccoy.armymwr.com/calendar/event
DTSTART;TZID=America/Chicago:20250826T130000
DTEND;TZID=America/Chicago:20250826T140000
SEQUENCE:7
END:VEVENT
END:VCALENDAR
